BEGIN:VCALENDAR
VERSION:2.0
PRODID:-//Lehigh Valley Charter High School for the Arts//NONSGML v1.0//EN
CALSCALE:GREGORIAN
METHOD:PUBLISH
X-WR-CALNAME:Lehigh Valley Charter High School for the Arts
X-ORIGINAL-URL:https://www.charterarts.org
X-WR-CALDESC:Events for Lehigh Valley Charter High School for the Arts
X-WR-TIMEZONE:America/New_York
BEGIN:VEVENT
DTSTART;VALUE=DATE-TIME:20151026T183000
DTEND;VALUE=DATE-TIME:20151026T200000
DTSTAMP:20260419T150754
CREATED:20151022T171750
LAST-MODIFIED:20151026T091622
UID:10710@https://www.charterarts.org
SUMMARY:Family Engagement Series #2 CANCELLED
DESCRIPTION:Family Engagement Series #2:    "Getting to know the facts about Substance Abuse"    6:30pm    RSVP to Mr. Kise -- akise@charterarts.org
LOCATION:
URL:https://www.charterarts.org/event/family-engagement-series-2/
END:VEVENT
END:VCALENDAR