BEGIN:VCALENDAR
VERSION:2.0
PRODID:-//Lehigh Valley Charter High School for the Arts//NONSGML v1.0//EN
CALSCALE:GREGORIAN
METHOD:PUBLISH
X-WR-CALNAME:Lehigh Valley Charter High School for the Arts
X-ORIGINAL-URL:https://www.charterarts.org
X-WR-CALDESC:Events for Lehigh Valley Charter High School for the Arts
X-WR-TIMEZONE:America/New_York
BEGIN:VEVENT
DTSTART;VALUE=DATE:20201007
DTEND;VALUE=DATE:20201008
DTSTAMP:20260422T103815
CREATED:20201005T115419
LAST-MODIFIED:20201005T122052
UID:20554@https://www.charterarts.org
SUMMARY:Family Engagement Session
DESCRIPTION:Charter Arts is partnering with the Center for Humanistic Change (CHC) to share strategies with families to support students during remote learning and beyond.    Each CHC session will be 45 minutes in length and will be offered at two different times (12:00pm or 7:00pm) to allow for flexibility in viewing these sessions.    The session on Wednesday\, October 7\, 2020\, will focus on Managing Emotions: techniques and resources to use during crisis situations.        UPCOMING FAMILY ENGAGEMENT SESSIONS INCLUDE:  Family Engagement Event Schedule        Family Engagement Policies:  Title I Family Engagement Policy  Title I Right to Know Letter  Title I School/Family Compact
LOCATION:
URL:https://www.charterarts.org/event/family-engagement-session/
END:VEVENT
END:VCALENDAR