BEGIN:VCALENDAR
VERSION:2.0
PRODID:-//Lehigh Valley Charter High School for the Arts//NONSGML v1.0//EN
CALSCALE:GREGORIAN
METHOD:PUBLISH
X-WR-CALNAME:Lehigh Valley Charter High School for the Arts
X-ORIGINAL-URL:https://www.charterarts.org
X-WR-CALDESC:Events for Lehigh Valley Charter High School for the Arts
X-WR-TIMEZONE:America/New_York
BEGIN:VEVENT
DTSTART;VALUE=DATE:20200520
DTEND;VALUE=DATE:20200521
DTSTAMP:20260420T115356
CREATED:20200518T103407
LAST-MODIFIED:20200520T142039
UID:19528@https://www.charterarts.org
SUMMARY:Family Engagement Virtual Session: "Signs of Drug and Alcohol Use"
DESCRIPTION:Charter Arts is partnering with the Center for Humanistic Change (CHC) to share strategies with families to support students during this unprecedented school closure and beyond. Each CHC session will be 30 minutes in length and will be offered at two different times to allow for flexibility in viewing these sessions.    Our next event is this Wednesday\, May 20th at 11:30am or 7:00pm and the topic is "Signs of Drug &amp; Alcohol Use."  Please use this link to sign up!
LOCATION:
URL:https://www.charterarts.org/event/family-engagement-virtual-session-signs-of-drug-and-alcohol-use/
END:VEVENT
END:VCALENDAR