BEGIN:VCALENDAR
VERSION:2.0
PRODID:-//Lehigh Valley Charter High School for the Arts//NONSGML v1.0//EN
CALSCALE:GREGORIAN
METHOD:PUBLISH
X-WR-CALNAME:Lehigh Valley Charter High School for the Arts
X-ORIGINAL-URL:https://www.charterarts.org
X-WR-CALDESC:Events for Lehigh Valley Charter High School for the Arts
X-WR-TIMEZONE:America/New_York
BEGIN:VEVENT
DTSTART;VALUE=DATE-TIME:20161217T190000
DTEND;VALUE=DATE-TIME:20161217T200000
DTSTAMP:20260419T134143
CREATED:20161130T170235
LAST-MODIFIED:20161215T083652
UID:13180@https://www.charterarts.org
SUMMARY:Figure Skating Holiday Show- Home for the Holidays
DESCRIPTION:This event takes place at the Steel Ice Center.    The Charter Arts Figure Skating Department presents its NEW holiday ice show:  CHARLES BROWN- Home for the Holidays.  He's all grown up\, living in NYC\, and longing for a hometown holiday!    Bring the entire family. ALL Charter Arts students and children are FREE. Adults $12.    Click Here for Tickets.  OR visit:  www.CharterArts.org.( All seats are ticketed\, including the complimentary FREE seats for students and children.  Reserve seats online.  All children under 12 must be accompanied by at least one adult.  Seating is limited.    *Even though kids are free\, you must still click on Student/Kid Ticket to reserve his or her seat. Children must be accompanied by an adult. ONLINE TICKET SALES WILL END AT 7am on Friday\, Dec. 16\, last minute tickets will then need to be purchased at the door.        &nbsp;
LOCATION:
URL:https://www.charterarts.org/event/figure-skating-holiday-show-home-holidays/
END:VEVENT
END:VCALENDAR