BEGIN:VCALENDAR
VERSION:2.0
PRODID:-//Lehigh Valley Charter High School for the Arts//NONSGML v1.0//EN
CALSCALE:GREGORIAN
METHOD:PUBLISH
X-WR-CALNAME:Lehigh Valley Charter High School for the Arts
X-ORIGINAL-URL:https://www.charterarts.org
X-WR-CALDESC:Events for Lehigh Valley Charter High School for the Arts
X-WR-TIMEZONE:America/New_York
BEGIN:VEVENT
DTSTART;VALUE=DATE:20190604
DTEND;VALUE=DATE:20190608
DTSTAMP:20260419T115917
CREATED:20180716T143534
LAST-MODIFIED:20190529T133123
UID:16227@https://www.charterarts.org
SUMMARY:FINAL EXAMS- Early dismissal at 11 AM
DESCRIPTION:
LOCATION:
URL:https://www.charterarts.org/event/final-exams-early-dismissal-11/
END:VEVENT
END:VCALENDAR