BEGIN:VCALENDAR
VERSION:2.0
PRODID:-//Lehigh Valley Charter High School for the Arts//NONSGML v1.0//EN
CALSCALE:GREGORIAN
METHOD:PUBLISH
X-WR-CALNAME:Lehigh Valley Charter High School for the Arts
X-ORIGINAL-URL:https://www.charterarts.org
X-WR-CALDESC:Events for Lehigh Valley Charter High School for the Arts
X-WR-TIMEZONE:America/New_York
BEGIN:VEVENT
DTSTART;VALUE=DATE:20140610
DTEND;VALUE=DATE:20140613
DTSTAMP:20260419T150804
CREATED:20130529T134050
LAST-MODIFIED:20140402T174429
UID:4968@https://www.charterarts.org
SUMMARY:Final Exams - Early Dismissal 11:00 am
DESCRIPTION:
LOCATION:
URL:https://www.charterarts.org/event/final-exams-early-dismissal-1100-am-3/
END:VEVENT
END:VCALENDAR