BEGIN:VCALENDAR
VERSION:2.0
PRODID:-//Lehigh Valley Charter High School for the Arts//NONSGML v1.0//EN
CALSCALE:GREGORIAN
METHOD:PUBLISH
X-WR-CALNAME:Lehigh Valley Charter High School for the Arts
X-ORIGINAL-URL:https://www.charterarts.org
X-WR-CALDESC:Events for Lehigh Valley Charter High School for the Arts
X-WR-TIMEZONE:America/New_York
BEGIN:VEVENT
DTSTART;VALUE=DATE:20150602
DTEND;VALUE=DATE:20150603
DTSTAMP:20260420T135339
CREATED:20150116T152605
LAST-MODIFIED:20150521T095050
UID:9300@https://www.charterarts.org
SUMMARY:Snow Make-Up Day- FULL DAY
DESCRIPTION:This is a full day for all students.
LOCATION:
URL:https://www.charterarts.org/event/final-exams-early-dismissal-11am/
END:VEVENT
END:VCALENDAR