BEGIN:VCALENDAR
VERSION:2.0
PRODID:-//Lehigh Valley Charter High School for the Arts//NONSGML v1.0//EN
CALSCALE:GREGORIAN
METHOD:PUBLISH
X-WR-CALNAME:Lehigh Valley Charter High School for the Arts
X-ORIGINAL-URL:https://www.charterarts.org
X-WR-CALDESC:Events for Lehigh Valley Charter High School for the Arts
X-WR-TIMEZONE:America/New_York
BEGIN:VEVENT
DTSTART;VALUE=DATE-TIME:20160320T160000
DTEND;VALUE=DATE-TIME:20160320T190000
DTSTAMP:20260420T225241
CREATED:20160307T133047
LAST-MODIFIED:20160307T133047
UID:11467@https://www.charterarts.org
SUMMARY:FINALS for SteelStacks High School Jazz Showcase
DESCRIPTION:4pm at the ArtsQuest Center at SteelStacks    Information and tickets:  www.artsquest.org
LOCATION:
URL:https://www.charterarts.org/event/finals-steelstacks-high-school-jazz-showcase/
END:VEVENT
END:VCALENDAR