BEGIN:VCALENDAR
VERSION:2.0
PRODID:-//Lehigh Valley Charter High School for the Arts//NONSGML v1.0//EN
CALSCALE:GREGORIAN
METHOD:PUBLISH
X-WR-CALNAME:Lehigh Valley Charter High School for the Arts
X-ORIGINAL-URL:https://www.charterarts.org
X-WR-CALDESC:Events for Lehigh Valley Charter High School for the Arts
X-WR-TIMEZONE:America/New_York
BEGIN:VEVENT
DTSTART;VALUE=DATE:20131118
DTEND;VALUE=DATE:20131119
DTSTAMP:20260419T121259
CREATED:20131024T151155
LAST-MODIFIED:20131024T151225
UID:6053@https://www.charterarts.org
SUMMARY:Financial Reality Fair Field Trip
DESCRIPTION:
LOCATION:
URL:https://www.charterarts.org/event/financial-reality-fair-field-trip/
END:VEVENT
END:VCALENDAR