BEGIN:VCALENDAR
VERSION:2.0
PRODID:-//Lehigh Valley Charter High School for the Arts//NONSGML v1.0//EN
CALSCALE:GREGORIAN
METHOD:PUBLISH
X-WR-CALNAME:Lehigh Valley Charter High School for the Arts
X-ORIGINAL-URL:https://www.charterarts.org
X-WR-CALDESC:Events for Lehigh Valley Charter High School for the Arts
X-WR-TIMEZONE:America/New_York
BEGIN:VEVENT
DTSTART;VALUE=DATE:20190826
DTEND;VALUE=DATE:20190827
DTSTAMP:20260420T085248
CREATED:20190702T134254
LAST-MODIFIED:20190729T081840
UID:17897@https://www.charterarts.org
SUMMARY:First Day of School for ALL Students
DESCRIPTION:
LOCATION:
URL:https://www.charterarts.org/event/first-day-of-school-for-all-students/
END:VEVENT
END:VCALENDAR