BEGIN:VCALENDAR
VERSION:2.0
PRODID:-//Lehigh Valley Charter High School for the Arts//NONSGML v1.0//EN
CALSCALE:GREGORIAN
METHOD:PUBLISH
X-WR-CALNAME:Lehigh Valley Charter High School for the Arts
X-ORIGINAL-URL:https://www.charterarts.org
X-WR-CALDESC:Events for Lehigh Valley Charter High School for the Arts
X-WR-TIMEZONE:America/New_York
BEGIN:VEVENT
DTSTART;VALUE=DATE:20180827
DTEND;VALUE=DATE:20180828
DTSTAMP:20260419T174514
CREATED:20180716T134032
LAST-MODIFIED:20180731T145245
UID:16069@https://www.charterarts.org
SUMMARY:First Day of School for ALL Students
DESCRIPTION:
LOCATION:
URL:https://www.charterarts.org/event/first-day-school-students/
END:VEVENT
END:VCALENDAR