BEGIN:VCALENDAR
VERSION:2.0
PRODID:-//Lehigh Valley Charter High School for the Arts//NONSGML v1.0//EN
CALSCALE:GREGORIAN
METHOD:PUBLISH
X-WR-CALNAME:Lehigh Valley Charter High School for the Arts
X-ORIGINAL-URL:https://www.charterarts.org
X-WR-CALDESC:Events for Lehigh Valley Charter High School for the Arts
X-WR-TIMEZONE:America/New_York
BEGIN:VEVENT
DTSTART;VALUE=DATE-TIME:20180202T180000
DTEND;VALUE=DATE-TIME:20180202T210000
DTSTAMP:20260422T103954
CREATED:20171206T135215
LAST-MODIFIED:20171206T135230
UID:15185@https://www.charterarts.org
SUMMARY:First Friday Art Reception: Celebrating 15 Years!
DESCRIPTION:
LOCATION:
URL:https://www.charterarts.org/event/first-friday-art-reception-celebrating-15-years/
END:VEVENT
END:VCALENDAR