BEGIN:VCALENDAR
VERSION:2.0
PRODID:-//Lehigh Valley Charter High School for the Arts//NONSGML v1.0//EN
CALSCALE:GREGORIAN
METHOD:PUBLISH
X-WR-CALNAME:Lehigh Valley Charter High School for the Arts
X-ORIGINAL-URL:https://www.charterarts.org
X-WR-CALDESC:Events for Lehigh Valley Charter High School for the Arts
X-WR-TIMEZONE:America/New_York
BEGIN:VEVENT
DTSTART;VALUE=DATE-TIME:20171006T180000
DTEND;VALUE=DATE-TIME:20171006T210000
DTSTAMP:20260422T154438
CREATED:20170801T105029
LAST-MODIFIED:20171005T174328
UID:14566@https://www.charterarts.org
SUMMARY:First Friday at Charter Arts
DESCRIPTION:Exhibit: Matt Halm:  Lehigh Valley Murals    Corpora Gallery at Charter Arts    &nbsp;
LOCATION:
URL:https://www.charterarts.org/event/first-friday-charter-arts-2/
END:VEVENT
END:VCALENDAR