BEGIN:VCALENDAR
VERSION:2.0
PRODID:-//Lehigh Valley Charter High School for the Arts//NONSGML v1.0//EN
CALSCALE:GREGORIAN
METHOD:PUBLISH
X-WR-CALNAME:Lehigh Valley Charter High School for the Arts
X-ORIGINAL-URL:https://www.charterarts.org
X-WR-CALDESC:Events for Lehigh Valley Charter High School for the Arts
X-WR-TIMEZONE:America/New_York
BEGIN:VEVENT
DTSTART;VALUE=DATE-TIME:20170407T180000
DTEND;VALUE=DATE-TIME:20170407T210000
DTSTAMP:20260420T121031
CREATED:20170404T145407
LAST-MODIFIED:20170404T145428
UID:13849@https://www.charterarts.org
SUMMARY:First Friday at Charter Arts
DESCRIPTION:    First Friday at the Lehigh Valley Charter High School for the Arts!  Art &amp; Poetry Events  April 7\, 2017      321 East 3rd Street\, Bethlehem    6-9pm Free Art Reception in the Corpora Gallery. Brought Back to Light\, is an exhibit featuring over forty works from Charter Arts' permanent art collection.  This collection has accrued over the school's fourteen year history\, and features pieces by many of the school's notable alumni artists.      7pm:  Poetry Reading in the Commons Cafe.  Twenty students will present their original poems.
LOCATION:
URL:https://www.charterarts.org/event/first-friday-charter-arts/
END:VEVENT
END:VCALENDAR