BEGIN:VCALENDAR
VERSION:2.0
PRODID:-//Lehigh Valley Charter High School for the Arts//NONSGML v1.0//EN
CALSCALE:GREGORIAN
METHOD:PUBLISH
X-WR-CALNAME:Lehigh Valley Charter High School for the Arts
X-ORIGINAL-URL:https://www.charterarts.org
X-WR-CALDESC:Events for Lehigh Valley Charter High School for the Arts
X-WR-TIMEZONE:America/New_York
BEGIN:VEVENT
DTSTART;VALUE=DATE-TIME:20190607T180000
DTEND;VALUE=DATE-TIME:20190607T200000
DTSTAMP:20260420T102733
CREATED:20181015T142649
LAST-MODIFIED:20190529T133014
UID:16876@https://www.charterarts.org
SUMMARY:First Friday Exhibit: Alumni Exhibit
DESCRIPTION:First Friday Art Reception:  Alumni Group Exhibit  June 7/ 6-8 PM/ Corpora Gallery
LOCATION:
URL:https://www.charterarts.org/event/first-friday-exhibit-alumni-exhibit/
END:VEVENT
END:VCALENDAR