BEGIN:VCALENDAR
VERSION:2.0
PRODID:-//Lehigh Valley Charter High School for the Arts//NONSGML v1.0//EN
CALSCALE:GREGORIAN
METHOD:PUBLISH
X-WR-CALNAME:Lehigh Valley Charter High School for the Arts
X-ORIGINAL-URL:https://www.charterarts.org
X-WR-CALDESC:Events for Lehigh Valley Charter High School for the Arts
X-WR-TIMEZONE:America/New_York
BEGIN:VEVENT
DTSTART;VALUE=DATE-TIME:20200207T180000
DTEND;VALUE=DATE-TIME:20200207T200000
DTSTAMP:20260419T144005
CREATED:20191204T115646
LAST-MODIFIED:20200129T122459
UID:18669@https://www.charterarts.org
SUMMARY:First Friday: Faculty & Alumni Exhibit
DESCRIPTION:This event takes place in the Corpora Gallery during South Bethlehem's First Friday celebration.
LOCATION:
URL:https://www.charterarts.org/event/first-friday-faculty-alumni-exhibit/
END:VEVENT
END:VCALENDAR