BEGIN:VCALENDAR
VERSION:2.0
PRODID:-//Lehigh Valley Charter High School for the Arts//NONSGML v1.0//EN
CALSCALE:GREGORIAN
METHOD:PUBLISH
X-WR-CALNAME:Lehigh Valley Charter High School for the Arts
X-ORIGINAL-URL:https://www.charterarts.org
X-WR-CALDESC:Events for Lehigh Valley Charter High School for the Arts
X-WR-TIMEZONE:America/New_York
BEGIN:VEVENT
DTSTART;VALUE=DATE-TIME:20170203T180000
DTEND;VALUE=DATE-TIME:20170203T210000
DTSTAMP:20260422T121959
CREATED:20161212T121356
LAST-MODIFIED:20170201T121037
UID:13356@https://www.charterarts.org
SUMMARY:First Friday Reception:  Alumni Art Exhibit
DESCRIPTION:This event takes place in the Corpora Art Gallery.    This exhibit is on display from February 3-March 3.  Viewing appointments can be arranged during school hours by contacting Lorie Reinhard\, lreinhard@charterarts.org.
LOCATION:
URL:https://www.charterarts.org/event/first-friday-reception-alumni-art-exhibit/
END:VEVENT
END:VCALENDAR