BEGIN:VCALENDAR
VERSION:2.0
PRODID:-//Lehigh Valley Charter High School for the Arts//NONSGML v1.0//EN
CALSCALE:GREGORIAN
METHOD:PUBLISH
X-WR-CALNAME:Lehigh Valley Charter High School for the Arts
X-ORIGINAL-URL:https://www.charterarts.org
X-WR-CALDESC:Events for Lehigh Valley Charter High School for the Arts
X-WR-TIMEZONE:America/New_York
BEGIN:VEVENT
DTSTART;VALUE=DATE-TIME:20161104T180000
DTEND;VALUE=DATE-TIME:20161104T210000
DTSTAMP:20260420T135820
CREATED:20161030T113114
LAST-MODIFIED:20161104T102351
UID:12937@https://www.charterarts.org
SUMMARY:First Friday Reception: InVision Exhibit: Carol Front & David Haas
DESCRIPTION:Corpora Art Gallery.    6-9pm    Free event and open to the public.  Donations are welcome and appreciated.    &nbsp;    &nbsp;
LOCATION:
URL:https://www.charterarts.org/event/first-friday-reception-invision-exhibit-carol-front-david-haas/
END:VEVENT
END:VCALENDAR