BEGIN:VCALENDAR
VERSION:2.0
PRODID:-//Lehigh Valley Charter High School for the Arts//NONSGML v1.0//EN
CALSCALE:GREGORIAN
METHOD:PUBLISH
X-WR-CALNAME:Lehigh Valley Charter High School for the Arts
X-ORIGINAL-URL:https://www.charterarts.org
X-WR-CALDESC:Events for Lehigh Valley Charter High School for the Arts
X-WR-TIMEZONE:America/New_York
BEGIN:VEVENT
DTSTART;VALUE=DATE-TIME:20160902T180000
DTEND;VALUE=DATE-TIME:20160902T210000
DTSTAMP:20260419T132409
CREATED:20160818T121536
LAST-MODIFIED:20160822T165343
UID:12494@https://www.charterarts.org
SUMMARY:First Friday Reception- New Dutch Landscapes Exhibit
DESCRIPTION:    &nbsp;    FREE ADMISSION.  Donations are welcome and appreciated.
LOCATION:
URL:https://www.charterarts.org/event/first-friday-reception-sandy-corpora-exhibit/
END:VEVENT
END:VCALENDAR