BEGIN:VCALENDAR
VERSION:2.0
PRODID:-//Lehigh Valley Charter High School for the Arts//NONSGML v1.0//EN
CALSCALE:GREGORIAN
METHOD:PUBLISH
X-WR-CALNAME:Lehigh Valley Charter High School for the Arts
X-ORIGINAL-URL:https://www.charterarts.org
X-WR-CALDESC:Events for Lehigh Valley Charter High School for the Arts
X-WR-TIMEZONE:America/New_York
BEGIN:VEVENT
DTSTART;VALUE=DATE-TIME:20190503T180000
DTEND;VALUE=DATE-TIME:20190503T200000
DTSTAMP:20260419T140416
CREATED:20180717T135830
LAST-MODIFIED:20190424T152532
UID:16309@https://www.charterarts.org
SUMMARY:First Friday: Senior Student Exhibit
DESCRIPTION:EXHIBIT: Senior Exhibit 2019    ARTISTS: Visual Art Students\, Grade 12    FIRST FRIDAY: May 3\, 6:00-8:00 PM (coincides with Quilt)    EXHIBIT RUNS: Friday\, May 3-Tuesday\, May 22\, 2019    DESCRIPTION: This exhibit represents a culmination of best original and in-class work produced by visual art seniors. The exhibit focuses on creative flair and lessons learned as students of visual art. Contractual work produced during Contracted Studio and Exhibition will be emphasized in senior collections.
LOCATION:
URL:https://www.charterarts.org/event/first-friday-senior-student-exhibit/
END:VEVENT
END:VCALENDAR