BEGIN:VCALENDAR
VERSION:2.0
PRODID:-//Lehigh Valley Charter High School for the Arts//NONSGML v1.0//EN
CALSCALE:GREGORIAN
METHOD:PUBLISH
X-WR-CALNAME:Lehigh Valley Charter High School for the Arts
X-ORIGINAL-URL:https://www.charterarts.org
X-WR-CALDESC:Events for Lehigh Valley Charter High School for the Arts
X-WR-TIMEZONE:America/New_York
BEGIN:VEVENT
DTSTART;VALUE=DATE:20201002
DTEND;VALUE=DATE:20201003
DTSTAMP:20260419T143821
CREATED:20201001T083751
LAST-MODIFIED:20201002T192942
UID:20538@https://www.charterarts.org
SUMMARY:First Friday: Visual Arts Fall Exhibition
DESCRIPTION:Charter Arts participates in South Bethlehem's First Friday celebrations throughout the school year.  OCTOBER 2020 FIRST FRIDAY  The Charter Arts Visual Arts Department presents its Virtual Fall Exhibition\, with a kick-off on October 2\, 2020. This Back to School showing of the department's Spring 2020 includes examples of in-class and personal series work from grades 10-12 plus alumni.    The virtual exhibit will be available to view through October 31\, 2020.  VIEW EXHIBIT
LOCATION:
URL:https://www.charterarts.org/event/first-friday-visual-art-fall-exhibition/
END:VEVENT
END:VCALENDAR