BEGIN:VCALENDAR
VERSION:2.0
PRODID:-//Lehigh Valley Charter High School for the Arts//NONSGML v1.0//EN
CALSCALE:GREGORIAN
METHOD:PUBLISH
X-WR-CALNAME:Lehigh Valley Charter High School for the Arts
X-ORIGINAL-URL:https://www.charterarts.org
X-WR-CALDESC:Events for Lehigh Valley Charter High School for the Arts
X-WR-TIMEZONE:America/New_York
BEGIN:VEVENT
DTSTART;VALUE=DATE-TIME:20160306T140000
DTEND;VALUE=DATE-TIME:20160306T173000
DTSTAMP:20260419T121353
CREATED:20160104T164820
LAST-MODIFIED:20160211T142731
UID:11216@https://www.charterarts.org
SUMMARY:Flying Solo Fashion Show
DESCRIPTION:Once again the Parent Association of the Lehigh Valley Charter High School for the Arts (Charter Arts) has created a very successful and unique fashion show event\, Flying Solo: A Road Less Traveled. This fashion show focuses on the creative visions of student designers\, professional and emerging couture designers from the Lehigh Valley and beyond.  The Charter Arts Parent Association also proudly includes fashions from nationally-recognized retailers and small fashion boutiques.  The result has become a creative and exciting extravaganza that pulses with electric energy... Flying Solo - A Road Less Traveled is a one of a kind experience that will thrill the audience and showcase the amazing talents and visions of an eclectic group of designers.    Hurry to get the coveted and limited Platinum VIP tickets which include FRONT ROW seating\, a glass of wine\, a premium swag bag and a meet &amp; greet with designers.  Gold VIP tickets include 2nd or 3rd row seating and a swag bag.    General Admission:  $25    VIP:  $45    Platinum:  $60        
LOCATION:The Palace Center, 623 Hanover Avenue, Allentown, PA, United States, 18109
URL:https://www.charterarts.org/event/flying-solo-fashion-show-3/
END:VEVENT
END:VCALENDAR