BEGIN:VCALENDAR
VERSION:2.0
PRODID:-//Lehigh Valley Charter High School for the Arts//NONSGML v1.0//EN
CALSCALE:GREGORIAN
METHOD:PUBLISH
X-WR-CALNAME:Lehigh Valley Charter High School for the Arts
X-ORIGINAL-URL:https://www.charterarts.org
X-WR-CALDESC:Events for Lehigh Valley Charter High School for the Arts
X-WR-TIMEZONE:America/New_York
BEGIN:VEVENT
DTSTART;VALUE=DATE-TIME:20170717T093000
DTEND;VALUE=DATE-TIME:20170721T120000
DTSTAMP:20260422T102149
CREATED:20170620T152031
LAST-MODIFIED:20170713T181051
UID:14217@https://www.charterarts.org
SUMMARY:Fun with Art- Painting & Drawing 101
DESCRIPTION:Fun with Art- Painting &amp; Drawing 101  One Week Session:  July 17-21  9:30am-12:00pm daily  $155  (Includes materials)    This workshop is designed for the novice young artist who is interested in learning the basics of painting and drawing.  Participants will spend a portion of each session working on each art form.  Open to children entering 5th-7th grades. After instruction and direction\, participants will work independently on their projects for a portion of each class.    READ THE LESSON PLAN FOR THE WEEK    The Lehigh Valley Charter High School for the Arts Summer Academy is a program of arts enrichment workshops and day camps. A participant does not have to be a current student at Charter Arts to attend. The workshops are open to the community.        REGISTER BY PHONE:    610-868-2971 ext. 3185
LOCATION:
URL:https://www.charterarts.org/event/fun-art-painting-drawing-101/
END:VEVENT
END:VCALENDAR