BEGIN:VCALENDAR
VERSION:2.0
PRODID:-//Lehigh Valley Charter High School for the Arts//NONSGML v1.0//EN
CALSCALE:GREGORIAN
METHOD:PUBLISH
X-WR-CALNAME:Lehigh Valley Charter High School for the Arts
X-ORIGINAL-URL:https://www.charterarts.org
X-WR-CALDESC:Events for Lehigh Valley Charter High School for the Arts
X-WR-TIMEZONE:America/New_York
BEGIN:VEVENT
DTSTART;VALUE=DATE-TIME:20180716T090000
DTEND;VALUE=DATE-TIME:20180720T120000
DTSTAMP:20260419T175346
CREATED:20180502T123302
LAST-MODIFIED:20180715T114924
UID:15819@https://www.charterarts.org
SUMMARY:Fun with Art: Painting & Drawing
DESCRIPTION:There are spots still available for this workshop.  Please call 610-868-2971 Ext. 3185 to reserve a space today.    THIS SESSION HAS BEEN CANCELLED    July 16-20  9am-12pm daily  READ MORE
LOCATION:
URL:https://www.charterarts.org/event/fun-art-painting-drawing/
END:VEVENT
END:VCALENDAR