BEGIN:VCALENDAR
VERSION:2.0
PRODID:-//Lehigh Valley Charter High School for the Arts//NONSGML v1.0//EN
CALSCALE:GREGORIAN
METHOD:PUBLISH
X-WR-CALNAME:Lehigh Valley Charter High School for the Arts
X-ORIGINAL-URL:https://www.charterarts.org
X-WR-CALDESC:Events for Lehigh Valley Charter High School for the Arts
X-WR-TIMEZONE:America/New_York
BEGIN:VEVENT
DTSTART;VALUE=DATE-TIME:20160711T090000
DTEND;VALUE=DATE-TIME:20160715T150000
DTSTAMP:20260424T125632
CREATED:20160606T145029
LAST-MODIFIED:20160606T153537
UID:11982@https://www.charterarts.org
SUMMARY:Fun with the Arts Day Camp
DESCRIPTION:“Fun with the Arts” Day Camp  This day camp is designed for the child who just wants to have fun exploring dance\, music\, theater and theatre prop and tech skills. The program is filled with fun\, fun\, fun and is a great opportunity for kids to tap into their creative side. Kids who attend this session will enjoy meeting new friends\, learning from outstanding instructors and will have the chance to let loose! (This program is not designed for the student who wants intense training in a particular arts discipline.)  Open to children entering 4th-7th grade  One-Week Session:  July 11-15  9am-3pm daily  $225    Register: .2016SummerAcademyRegistration-3    A Limited Number of  Scholarships are available for the Fun with the Arts program.  If  you would like more information\, email: communications@charterarts.org.    This workshop is part of the 2016 Summer Academy\, a program of arts enrichment workshops that are open to the community.
LOCATION:
URL:https://www.charterarts.org/event/fun-arts-day-camp-2/
END:VEVENT
END:VCALENDAR