BEGIN:VCALENDAR
VERSION:2.0
PRODID:-//Lehigh Valley Charter High School for the Arts//NONSGML v1.0//EN
CALSCALE:GREGORIAN
METHOD:PUBLISH
X-WR-CALNAME:Lehigh Valley Charter High School for the Arts
X-ORIGINAL-URL:https://www.charterarts.org
X-WR-CALDESC:Events for Lehigh Valley Charter High School for the Arts
X-WR-TIMEZONE:America/New_York
BEGIN:VEVENT
DTSTART;VALUE=DATE-TIME:20150629T090000
DTEND;VALUE=DATE-TIME:20150703T150000
DTSTAMP:20260419T133356
CREATED:20150616T105623
LAST-MODIFIED:20150616T105623
UID:9888@https://www.charterarts.org
SUMMARY:Fun with the Arts Day Camp
DESCRIPTION:The Lehigh Valley Charter High School for the Arts Summer Academy is a program of arts enrichment workshops and day camps in art\, music\, dance and theatre.   A participant does not have to be a current student at Charter Arts to attend\, the workshops are open to the community.  There are workshops for middle school students and high school students\, ages 9-16.          “Fun with the Arts” Day Camp  This day camp is designed for the child who just wants to have fun exploring dance\, music\, theater and theatre prop and tech skills. The program is filled with fun\, fun\, fun and is a great opportunity for kids to tap into their creative side. Kids who attend this session will enjoy meeting new friends\, learning from outstanding instructors and will have the chance to let loose! (This program is not designed for the student who wants intense training in a particular arts discipline.)  Open to children entering 4th-7th grade  One-Week Session #1: June 29-July 3  REGISTRATION STILL OPEN  Visit\, www.CharterArts.org\, click on Summer Academy to read more and download registration form.
LOCATION:
URL:https://www.charterarts.org/event/fun-with-the-arts-day-camp/
END:VEVENT
END:VCALENDAR