BEGIN:VCALENDAR
VERSION:2.0
PRODID:-//Lehigh Valley Charter High School for the Arts//NONSGML v1.0//EN
CALSCALE:GREGORIAN
METHOD:PUBLISH
X-WR-CALNAME:Lehigh Valley Charter High School for the Arts
X-ORIGINAL-URL:https://www.charterarts.org
X-WR-CALDESC:Events for Lehigh Valley Charter High School for the Arts
X-WR-TIMEZONE:America/New_York
BEGIN:VEVENT
DTSTART;VALUE=DATE:20131207
DTEND;VALUE=DATE:20131208
DTSTAMP:20260422T154836
CREATED:20131121T132530
LAST-MODIFIED:20131121T132551
UID:6288@https://www.charterarts.org
SUMMARY:'Gloria' Concert at Gwynedd Square
DESCRIPTION:This FREE concert featuring the classic\, John Rutter's "Gloria".  A beautiful event for the holidays.    Dec. 7th at 4pm at Gwynedd Square Presbyterian Church in Landsdale.    The Charter Arts Touring Choir\, Women's Choir and 11/12 Choir\, the Hill to Hill Brass Ensemble\, and the Gwynedd Square Chancel Choir.    A free-will offering will be taken to support The Lehigh Valley Charter High School for the Arts Music Department.
LOCATION:Gwynedd Square Presbyterian Church, 837 Sumneytown Pike, Lansdale, PA, United States
URL:https://www.charterarts.org/event/gloria-concert-gwynedd-square/
END:VEVENT
END:VCALENDAR