BEGIN:VCALENDAR
VERSION:2.0
PRODID:-//Lehigh Valley Charter High School for the Arts//NONSGML v1.0//EN
CALSCALE:GREGORIAN
METHOD:PUBLISH
X-WR-CALNAME:Lehigh Valley Charter High School for the Arts
X-ORIGINAL-URL:https://www.charterarts.org
X-WR-CALDESC:Events for Lehigh Valley Charter High School for the Arts
X-WR-TIMEZONE:America/New_York
BEGIN:VEVENT
DTSTART;VALUE=DATE:20131212
DTEND;VALUE=DATE:20131213
DTSTAMP:20260422T154928
CREATED:20131121T131026
LAST-MODIFIED:20131121T131456
UID:6271@https://www.charterarts.org
SUMMARY:Gospel Choir Christmas Show
DESCRIPTION:Godfrey Daniels\, the legendary not-for-profit member supported listening club presents The Lehigh Valley Charter High School for the Arts on Thursday evenings at 7:00pm.   Ticket price is $10 and must be purchased through Godfrey Daniels at www.godfreydaniels.org
LOCATION:Godfrey Daniels, 7 E. 4th St., Bethlehem, PA, United States
URL:https://www.charterarts.org/event/gospel-choir-christmas-show/
END:VEVENT
END:VCALENDAR