BEGIN:VCALENDAR
VERSION:2.0
PRODID:-//Lehigh Valley Charter High School for the Arts//NONSGML v1.0//EN
CALSCALE:GREGORIAN
METHOD:PUBLISH
X-WR-CALNAME:Lehigh Valley Charter High School for the Arts
X-ORIGINAL-URL:https://www.charterarts.org
X-WR-CALDESC:Events for Lehigh Valley Charter High School for the Arts
X-WR-TIMEZONE:America/New_York
BEGIN:VEVENT
DTSTART;VALUE=DATE-TIME:20170612T080000
DTEND;VALUE=DATE-TIME:20170612T170000
DTSTAMP:20260424T082053
CREATED:20170104T085417
LAST-MODIFIED:20170605T104347
UID:13570@https://www.charterarts.org
SUMMARY:Graduation
DESCRIPTION:Graduation Rehearsal will take place in the morning.    Graduation will take place at Packer Memorial Chapel on the campus of Lehigh University at 7pm.
LOCATION:
URL:https://www.charterarts.org/event/graduation-4/
END:VEVENT
END:VCALENDAR