BEGIN:VCALENDAR
VERSION:2.0
PRODID:-//Lehigh Valley Charter High School for the Arts//NONSGML v1.0//EN
CALSCALE:GREGORIAN
METHOD:PUBLISH
X-WR-CALNAME:Lehigh Valley Charter High School for the Arts
X-ORIGINAL-URL:https://www.charterarts.org
X-WR-CALDESC:Events for Lehigh Valley Charter High School for the Arts
X-WR-TIMEZONE:America/New_York
BEGIN:VEVENT
DTSTART;VALUE=DATE:20180611
DTEND;VALUE=DATE:20180612
DTSTAMP:20260419T134127
CREATED:20170706T095746
LAST-MODIFIED:20180603T091013
UID:14437@https://www.charterarts.org
SUMMARY:Graduation Rehearsal/ Graduation Ceremony
DESCRIPTION:Graduation Rehearsal takes place in the morning\, times tbd.    Graduation Ceremony takes place at 7pm.  Location tbd.
LOCATION:
URL:https://www.charterarts.org/event/graduation-rehearsal-graduation-ceremony/
END:VEVENT
END:VCALENDAR