BEGIN:VCALENDAR
VERSION:2.0
PRODID:-//Lehigh Valley Charter High School for the Arts//NONSGML v1.0//EN
CALSCALE:GREGORIAN
METHOD:PUBLISH
X-WR-CALNAME:Lehigh Valley Charter High School for the Arts
X-ORIGINAL-URL:https://www.charterarts.org
X-WR-CALDESC:Events for Lehigh Valley Charter High School for the Arts
X-WR-TIMEZONE:America/New_York
BEGIN:VEVENT
DTSTART;VALUE=DATE:20130617
DTEND;VALUE=DATE:20130618
DTSTAMP:20260419T145230
CREATED:20120416T125100
LAST-MODIFIED:20130610T065749
UID:2959@https://www.charterarts.org
SUMMARY:Graduation
DESCRIPTION:June 17  7:00 pm  Packer Memorial Chapel\, Lehigh University\, Bethlehem\, PA  18015  (ticket holders only)
LOCATION:
URL:https://www.charterarts.org/event/graduation-tentative-2/
END:VEVENT
END:VCALENDAR