BEGIN:VCALENDAR
VERSION:2.0
PRODID:-//Lehigh Valley Charter High School for the Arts//NONSGML v1.0//EN
CALSCALE:GREGORIAN
METHOD:PUBLISH
X-WR-CALNAME:Lehigh Valley Charter High School for the Arts
X-ORIGINAL-URL:https://www.charterarts.org
X-WR-CALDESC:Events for Lehigh Valley Charter High School for the Arts
X-WR-TIMEZONE:America/New_York
BEGIN:VEVENT
DTSTART;VALUE=DATE-TIME:20150611T190000
DTEND;VALUE=DATE-TIME:20150611T203000
DTSTAMP:20260420T061759
CREATED:20150406T101527
LAST-MODIFIED:20150520T135922
UID:9631@https://www.charterarts.org
SUMMARY:LAST DAY FOR STUDENTS- 11am dismissal
DESCRIPTION:This date will also be final exam make-ups if needed.    2015 Graduation    Packer Memorial Chapel at Lehigh University.    7pm
LOCATION:
URL:https://www.charterarts.org/event/graduation/
END:VEVENT
END:VCALENDAR