BEGIN:VCALENDAR
VERSION:2.0
PRODID:-//Lehigh Valley Charter High School for the Arts//NONSGML v1.0//EN
CALSCALE:GREGORIAN
METHOD:PUBLISH
X-WR-CALNAME:Lehigh Valley Charter High School for the Arts
X-ORIGINAL-URL:https://www.charterarts.org
X-WR-CALDESC:Events for Lehigh Valley Charter High School for the Arts
X-WR-TIMEZONE:America/New_York
BEGIN:VEVENT
DTSTART;VALUE=DATE-TIME:20141118T080000
DTEND;VALUE=DATE-TIME:20141118T103000
DTSTAMP:20260419T130302
CREATED:20140911T131245
LAST-MODIFIED:20140911T131245
UID:8441@https://www.charterarts.org
SUMMARY:Grandparents Day
DESCRIPTION:Grandparents Day is an honored tradition at The Lehigh Valley Charter High School for the Arts.   On this special morning\, grandparents have the chance to go to a class with their grandchild and they are entertained with a variety of performances from the dance department and music department.    The itinerary for this event will be sent out in the Parent Newsletter.    &nbsp;    &nbsp;
LOCATION:
URL:https://www.charterarts.org/event/grandparents-day-2/
END:VEVENT
END:VCALENDAR