BEGIN:VCALENDAR
VERSION:2.0
PRODID:-//Lehigh Valley Charter High School for the Arts//NONSGML v1.0//EN
CALSCALE:GREGORIAN
METHOD:PUBLISH
X-WR-CALNAME:Lehigh Valley Charter High School for the Arts
X-ORIGINAL-URL:https://www.charterarts.org
X-WR-CALDESC:Events for Lehigh Valley Charter High School for the Arts
X-WR-TIMEZONE:America/New_York
BEGIN:VEVENT
DTSTART;VALUE=DATE:20150106
DTEND;VALUE=DATE:20150107
DTSTAMP:20260420T082029
CREATED:20141218T111910
LAST-MODIFIED:20141218T111910
UID:8935@https://www.charterarts.org
SUMMARY:Group Picture Day
DESCRIPTION:
LOCATION:
URL:https://www.charterarts.org/event/group-picture-day/
END:VEVENT
END:VCALENDAR