BEGIN:VCALENDAR
VERSION:2.0
PRODID:-//Lehigh Valley Charter High School for the Arts//NONSGML v1.0//EN
CALSCALE:GREGORIAN
METHOD:PUBLISH
X-WR-CALNAME:Lehigh Valley Charter High School for the Arts
X-ORIGINAL-URL:https://www.charterarts.org
X-WR-CALDESC:Events for Lehigh Valley Charter High School for the Arts
X-WR-TIMEZONE:America/New_York
BEGIN:VEVENT
DTSTART;VALUE=DATE-TIME:20201218T190000
DTEND;VALUE=DATE-TIME:20201218T203000
DTSTAMP:20260419T144041
CREATED:20201026T144438
LAST-MODIFIED:20201026T144438
UID:20717@https://www.charterarts.org
SUMMARY:Holiday Virtual Cafe
DESCRIPTION:December 18\, 2020/ 7 PM  Enjoy contemporary holiday music of all traditions performed by students of all majors.  This is a FREE event.    A Google Form link will be distributed the week before to RSVP to the event. Once you RSVP\, you will receive a Zoom link that you can use to tune in to the live performance.
LOCATION:
URL:https://www.charterarts.org/event/holiday-virtual-cafe/
END:VEVENT
END:VCALENDAR