BEGIN:VCALENDAR
VERSION:2.0
PRODID:-//Lehigh Valley Charter High School for the Arts//NONSGML v1.0//EN
CALSCALE:GREGORIAN
METHOD:PUBLISH
X-WR-CALNAME:Lehigh Valley Charter High School for the Arts
X-ORIGINAL-URL:https://www.charterarts.org
X-WR-CALDESC:Events for Lehigh Valley Charter High School for the Arts
X-WR-TIMEZONE:America/New_York
BEGIN:VEVENT
DTSTART;VALUE=DATE-TIME:20191219T190000
DTEND;VALUE=DATE-TIME:20191219T210000
DTSTAMP:20260420T100959
CREATED:20190819T113728
LAST-MODIFIED:20191209T095738
UID:18088@https://www.charterarts.org
SUMMARY:Holiday Vocalist Cafe at Godfrey Daniels
DESCRIPTION:Holiday Vocalist Café    December 19/ 7 PM/ Godfrey Daniels    Reservations through Godfrey Daniels\, godfreydaniels.org
LOCATION:
URL:https://www.charterarts.org/event/holiday-vocalist-cafe-at-godfrey-daniels/
END:VEVENT
END:VCALENDAR