BEGIN:VCALENDAR
VERSION:2.0
PRODID:-//Lehigh Valley Charter High School for the Arts//NONSGML v1.0//EN
CALSCALE:GREGORIAN
METHOD:PUBLISH
X-WR-CALNAME:Lehigh Valley Charter High School for the Arts
X-ORIGINAL-URL:https://www.charterarts.org
X-WR-CALDESC:Events for Lehigh Valley Charter High School for the Arts
X-WR-TIMEZONE:America/New_York
BEGIN:VEVENT
DTSTART;VALUE=DATE-TIME:20141209T090000
DTEND;VALUE=DATE-TIME:20141209T123000
DTSTAMP:20260419T121427
CREATED:20141205T120711
LAST-MODIFIED:20141205T121024
UID:8748@https://www.charterarts.org
SUMMARY:Instrumental Club-Community Performance
DESCRIPTION:Members of the Instrumental Club will be doing a community outreach performance at Sarah Care of the Lehigh Valley.    This event is coordinated through Mr. Maher:  tmaher@charterarts.org.
LOCATION:Sarah Care of the Lehigh Valley
URL:https://www.charterarts.org/event/instrumental-club-community-performance/
END:VEVENT
END:VCALENDAR