BEGIN:VCALENDAR
VERSION:2.0
PRODID:-//Lehigh Valley Charter High School for the Arts//NONSGML v1.0//EN
CALSCALE:GREGORIAN
METHOD:PUBLISH
X-WR-CALNAME:Lehigh Valley Charter High School for the Arts
X-ORIGINAL-URL:https://www.charterarts.org
X-WR-CALDESC:Events for Lehigh Valley Charter High School for the Arts
X-WR-TIMEZONE:America/New_York
BEGIN:VEVENT
DTSTART;VALUE=DATE-TIME:20151216T190000
DTEND;VALUE=DATE-TIME:20151217T190000
DTSTAMP:20260420T145311
CREATED:20150831T134117
LAST-MODIFIED:20151118T084959
UID:10428@https://www.charterarts.org
SUMMARY:Instrumental Winter Concert
DESCRIPTION:The Instrumental Music Department presents performances by the Charter Arts Wind Ensemble\, Percussion Ensemble and Orchestra. The ensembles will perform on both Wednesday (December 16th) as well as Thursday (December 17th.) This year\, the Wind Ensemble will be performing a major work by Frank Ticheli entitled\, “Angels in the Architecture.”        &nbsp;    &nbsp;    &nbsp;    &nbsp;    &nbsp;    &nbsp;
LOCATION:
URL:https://www.charterarts.org/event/instrumental-winter-concert/
END:VEVENT
END:VCALENDAR