BEGIN:VCALENDAR
VERSION:2.0
PRODID:-//Lehigh Valley Charter High School for the Arts//NONSGML v1.0//EN
CALSCALE:GREGORIAN
METHOD:PUBLISH
X-WR-CALNAME:Lehigh Valley Charter High School for the Arts
X-ORIGINAL-URL:https://www.charterarts.org
X-WR-CALDESC:Events for Lehigh Valley Charter High School for the Arts
X-WR-TIMEZONE:America/New_York
BEGIN:VEVENT
DTSTART;VALUE=DATE-TIME:20190715T090000
DTEND;VALUE=DATE-TIME:20190719T120000
DTSTAMP:20260419T121249
CREATED:20190605T111254
LAST-MODIFIED:20190613T125435
UID:17721@https://www.charterarts.org
SUMMARY:Introduction to Film & Screenwriting Workshop
DESCRIPTION:Introduction to Film and Screenwriting-There are openings still available.    One Week Session: July 15-19    9:00 AM- 12:00 PM daily  ( early drop-off available at 8 AM)    Fee: $175    To Register\, call 610-868-2971 Ext. 3185    This workshop is an entryway into the “reading” and comprehension of film as a language. Participants will explore the language of film and how film communicates. Participants will spend time looking carefully at how films are constructed through elements such as lighting\, sound\, movement\, and performance\, and how specific filmmaking techniques create specific audience responses. Along with examining popular screenplays\, this experience offers chances to create original scenes and storyboards. Introduction to Film and Screenwriting gives beginning students the opportunity to think about\, talk about\, and write about film.  Taught by Charter Arts Literary Arts faculty member\, Heath Mensher. Open to children entering 7th– 9th grades.  This workshop is part of Charter Arts' Summer Academy\, a program of enrichment workshops that is open to the community.
LOCATION:
URL:https://www.charterarts.org/event/introduction-to-film-screenwriting-workshop/
END:VEVENT
END:VCALENDAR