BEGIN:VCALENDAR
VERSION:2.0
PRODID:-//Lehigh Valley Charter High School for the Arts//NONSGML v1.0//EN
CALSCALE:GREGORIAN
METHOD:PUBLISH
X-WR-CALNAME:Lehigh Valley Charter High School for the Arts
X-ORIGINAL-URL:https://www.charterarts.org
X-WR-CALDESC:Events for Lehigh Valley Charter High School for the Arts
X-WR-TIMEZONE:America/New_York
BEGIN:VEVENT
DTSTART;VALUE=DATE-TIME:20170418T190000
DTEND;VALUE=DATE-TIME:20170418T210000
DTSTAMP:20260420T210445
CREATED:20170103T153156
LAST-MODIFIED:20170103T153156
UID:13430@https://www.charterarts.org
SUMMARY:Jazz Cafe
DESCRIPTION:
LOCATION:
URL:https://www.charterarts.org/event/jazz-cafe-14/
END:VEVENT
END:VCALENDAR