BEGIN:VCALENDAR
VERSION:2.0
PRODID:-//Lehigh Valley Charter High School for the Arts//NONSGML v1.0//EN
CALSCALE:GREGORIAN
METHOD:PUBLISH
X-WR-CALNAME:Lehigh Valley Charter High School for the Arts
X-ORIGINAL-URL:https://www.charterarts.org
X-WR-CALDESC:Events for Lehigh Valley Charter High School for the Arts
X-WR-TIMEZONE:America/New_York
BEGIN:VEVENT
DTSTART;VALUE=DATE-TIME:20171026T190000
DTEND;VALUE=DATE-TIME:20171026T190000
DTSTAMP:20260419T131902
CREATED:20170801T105204
LAST-MODIFIED:20171016T163440
UID:14576@https://www.charterarts.org
SUMMARY:Jazz Cafe
DESCRIPTION:7pm in the Charter Arts Theatre
LOCATION:
URL:https://www.charterarts.org/event/jazz-cafe-15/
END:VEVENT
END:VCALENDAR