BEGIN:VCALENDAR
VERSION:2.0
PRODID:-//Lehigh Valley Charter High School for the Arts//NONSGML v1.0//EN
CALSCALE:GREGORIAN
METHOD:PUBLISH
X-WR-CALNAME:Lehigh Valley Charter High School for the Arts
X-ORIGINAL-URL:https://www.charterarts.org
X-WR-CALDESC:Events for Lehigh Valley Charter High School for the Arts
X-WR-TIMEZONE:America/New_York
BEGIN:VEVENT
DTSTART;VALUE=DATE-TIME:20180206T190000
DTEND;VALUE=DATE-TIME:20180206T210000
DTSTAMP:20260420T211702
CREATED:20171206T135412
LAST-MODIFIED:20171206T141242
UID:15190@https://www.charterarts.org
SUMMARY:Jazz Cafe
DESCRIPTION:BUY TICKETS
LOCATION:
URL:https://www.charterarts.org/event/jazz-cafe-16/
END:VEVENT
END:VCALENDAR