BEGIN:VCALENDAR
VERSION:2.0
PRODID:-//Lehigh Valley Charter High School for the Arts//NONSGML v1.0//EN
CALSCALE:GREGORIAN
METHOD:PUBLISH
X-WR-CALNAME:Lehigh Valley Charter High School for the Arts
X-ORIGINAL-URL:https://www.charterarts.org
X-WR-CALDESC:Events for Lehigh Valley Charter High School for the Arts
X-WR-TIMEZONE:America/New_York
BEGIN:VEVENT
DTSTART;VALUE=DATE-TIME:20140516T190000
DTEND;VALUE=DATE-TIME:20140516T210000
DTSTAMP:20260419T144145
CREATED:20140328T085639
LAST-MODIFIED:20140328T085814
UID:6882@https://www.charterarts.org
SUMMARY:Jazz Café
DESCRIPTION:An evening of small group jazz performed by the various combos at Charter Arts.           var VendiniTicketLineLaunch = VendiniTicketLineLaunch || {};  VendiniTicketLineLaunch['2e5df71abe86aef677296dcfb35ecf9e'] = VendiniTicketLineLaunch['2e5df71abe86aef677296dcfb35ecf9e'] || [];  (function() {   VendiniTicketLineLaunch['2e5df71abe86aef677296dcfb35ecf9e'].push({id: '5c75d3b004919885daea9fdb02a717ff'\, type:'tix'\, eventID:'8f145352564fd31d2ca0edd2ca867853'\, image:'buy-tickets-now.png'});   if (document.body) {var buttonContainer = document.getElementById("vendiniTicketLineLaunch_5c75d3b004919885daea9fdb02a717ff").parentNode;}   else {document.write(''); buttonContainer = document.body;}   var span = document.createElement("span");   span.id = "5c75d3b004919885daea9fdb02a717ff";   buttonContainer.appendChild(span);   if (!document.getElementById('VendiniTicketLineLaunch_2e5df71abe86aef677296dcfb35ecf9e')) {    var script = document.createElement('script'); script.id = 'VendiniTicketLineLaunch_2e5df71abe86aef677296dcfb35ecf9e'; script.type = 'text/javascript'; script.async = true; script.src = 'https://www.vendini.com/ticketLine/js/launch/2e5df71abe86aef677296dcfb35ecf9e';    buttonContainer.appendChild(script);   }  })();          
LOCATION:
URL:https://www.charterarts.org/event/jazz-cafe-4/
END:VEVENT
END:VCALENDAR