BEGIN:VCALENDAR
VERSION:2.0
PRODID:-//Lehigh Valley Charter High School for the Arts//NONSGML v1.0//EN
CALSCALE:GREGORIAN
METHOD:PUBLISH
X-WR-CALNAME:Lehigh Valley Charter High School for the Arts
X-ORIGINAL-URL:https://www.charterarts.org
X-WR-CALDESC:Events for Lehigh Valley Charter High School for the Arts
X-WR-TIMEZONE:America/New_York
BEGIN:VEVENT
DTSTART;VALUE=DATE-TIME:20150108T190000
DTEND;VALUE=DATE-TIME:20150108T210000
DTSTAMP:20260422T083413
CREATED:20141222T162910
LAST-MODIFIED:20150106T144133
UID:9085@https://www.charterarts.org
SUMMARY:Jazz Cafe
DESCRIPTION:Black Box Theatre.        //     
LOCATION:
URL:https://www.charterarts.org/event/jazz-cafe-5/
END:VEVENT
END:VCALENDAR