BEGIN:VCALENDAR
VERSION:2.0
PRODID:-//Lehigh Valley Charter High School for the Arts//NONSGML v1.0//EN
CALSCALE:GREGORIAN
METHOD:PUBLISH
X-WR-CALNAME:Lehigh Valley Charter High School for the Arts
X-ORIGINAL-URL:https://www.charterarts.org
X-WR-CALDESC:Events for Lehigh Valley Charter High School for the Arts
X-WR-TIMEZONE:America/New_York
BEGIN:VEVENT
DTSTART;VALUE=DATE-TIME:20150319T190000
DTEND;VALUE=DATE-TIME:20150319T210000
DTSTAMP:20260420T224855
CREATED:20141222T172134
LAST-MODIFIED:20150309T110745
UID:9130@https://www.charterarts.org
SUMMARY:Jazz Cafe
DESCRIPTION:Students from the pop/jazz repertoire classes will be featured playing a variety of different styles from a variety of different artists!  The Advanced Combo will also perform.        //     
LOCATION:
URL:https://www.charterarts.org/event/jazz-cafe-6/
END:VEVENT
END:VCALENDAR