BEGIN:VCALENDAR
VERSION:2.0
PRODID:-//Lehigh Valley Charter High School for the Arts//NONSGML v1.0//EN
CALSCALE:GREGORIAN
METHOD:PUBLISH
X-WR-CALNAME:Lehigh Valley Charter High School for the Arts
X-ORIGINAL-URL:https://www.charterarts.org
X-WR-CALDESC:Events for Lehigh Valley Charter High School for the Arts
X-WR-TIMEZONE:America/New_York
BEGIN:VEVENT
DTSTART;VALUE=DATE-TIME:20130426T193000
DTEND;VALUE=DATE-TIME:20130426T213000
DTSTAMP:20260419T131537
CREATED:20130319T135217
LAST-MODIFIED:20130319T135324
UID:4573@https://www.charterarts.org
SUMMARY:Jazz Cafè
DESCRIPTION:      var VendiniTicketLineLaunch = VendiniTicketLineLaunch || {};  VendiniTicketLineLaunch['2e5df71abe86aef677296dcfb35ecf9e'] = VendiniTicketLineLaunch['2e5df71abe86aef677296dcfb35ecf9e'] || [];  (function() {   VendiniTicketLineLaunch['2e5df71abe86aef677296dcfb35ecf9e'].push({id: 'b33e17ce1143ae1c2ba1df1b09d69513'\, type:'tix'\, eventID:'94cebaa35a6876fde56d603e98d45cbb'\, image:'buy-tickets-now.png'});   document.write('');   if (!document.getElementById('VendiniTicketLineLaunch_2e5df71abe86aef677296dcfb35ecf9e')) {    var script = document.createElement('script'); script.id = 'VendiniTicketLineLaunch_2e5df71abe86aef677296dcfb35ecf9e'; script.type = 'text/javascript'; script.async = true; script.src = 'https://www.vendini.com/ticketLine/js/launch/2e5df71abe86aef677296dcfb35ecf9e';    var span = document.getElementById('b33e17ce1143ae1c2ba1df1b09d69513'); span.parentNode.insertBefore(script\, span);   }  })();        
LOCATION:
URL:https://www.charterarts.org/event/jazz-cafe/
END:VEVENT
END:VCALENDAR