BEGIN:VCALENDAR
VERSION:2.0
PRODID:-//Lehigh Valley Charter High School for the Arts//NONSGML v1.0//EN
CALSCALE:GREGORIAN
METHOD:PUBLISH
X-WR-CALNAME:Lehigh Valley Charter High School for the Arts
X-ORIGINAL-URL:https://www.charterarts.org
X-WR-CALDESC:Events for Lehigh Valley Charter High School for the Arts
X-WR-TIMEZONE:America/New_York
BEGIN:VEVENT
DTSTART;VALUE=DATE:20200511
DTEND;VALUE=DATE:20200516
DTSTAMP:20260419T120203
CREATED:20191205T103740
LAST-MODIFIED:20200326T145052
UID:18700@https://www.charterarts.org
SUMMARY:Keystone Exams - CANCELED
DESCRIPTION:
LOCATION:
URL:https://www.charterarts.org/event/keystone-exam-testing-window-13/
END:VEVENT
END:VCALENDAR