BEGIN:VCALENDAR
VERSION:2.0
PRODID:-//Lehigh Valley Charter High School for the Arts//NONSGML v1.0//EN
CALSCALE:GREGORIAN
METHOD:PUBLISH
X-WR-CALNAME:Lehigh Valley Charter High School for the Arts
X-ORIGINAL-URL:https://www.charterarts.org
X-WR-CALDESC:Events for Lehigh Valley Charter High School for the Arts
X-WR-TIMEZONE:America/New_York
BEGIN:VEVENT
DTSTART;VALUE=DATE:20170117
DTEND;VALUE=DATE:20170118
DTSTAMP:20260420T082825
CREATED:20161030T114041
LAST-MODIFIED:20161212T120439
UID:12967@https://www.charterarts.org
SUMMARY:Keystone Exams ALGEBRA
DESCRIPTION:
LOCATION:
URL:https://www.charterarts.org/event/keystone-exam-testing-window-2/
END:VEVENT
END:VCALENDAR