BEGIN:VCALENDAR
VERSION:2.0
PRODID:-//Lehigh Valley Charter High School for the Arts//NONSGML v1.0//EN
CALSCALE:GREGORIAN
METHOD:PUBLISH
X-WR-CALNAME:Lehigh Valley Charter High School for the Arts
X-ORIGINAL-URL:https://www.charterarts.org
X-WR-CALDESC:Events for Lehigh Valley Charter High School for the Arts
X-WR-TIMEZONE:America/New_York
BEGIN:VEVENT
DTSTART;VALUE=DATE:20170123
DTEND;VALUE=DATE:20170124
DTSTAMP:20260420T235002
CREATED:20161030T114108
LAST-MODIFIED:20161030T114108
UID:12972@https://www.charterarts.org
SUMMARY:Keystone Exam Testing Window
DESCRIPTION:
LOCATION:
URL:https://www.charterarts.org/event/keystone-exam-testing-window-3/
END:VEVENT
END:VCALENDAR