BEGIN:VCALENDAR
VERSION:2.0
PRODID:-//Lehigh Valley Charter High School for the Arts//NONSGML v1.0//EN
CALSCALE:GREGORIAN
METHOD:PUBLISH
X-WR-CALNAME:Lehigh Valley Charter High School for the Arts
X-ORIGINAL-URL:https://www.charterarts.org
X-WR-CALDESC:Events for Lehigh Valley Charter High School for the Arts
X-WR-TIMEZONE:America/New_York
BEGIN:VEVENT
DTSTART;VALUE=DATE:20180115
DTEND;VALUE=DATE:20180120
DTSTAMP:20260419T131641
CREATED:20170706T100012
LAST-MODIFIED:20170706T100012
UID:14452@https://www.charterarts.org
SUMMARY:Keystone Exam Testing Window
DESCRIPTION:
LOCATION:
URL:https://www.charterarts.org/event/keystone-exam-testing-window-7/
END:VEVENT
END:VCALENDAR